BEGIN:VCALENDAR
VERSION:2.0
PRODID:-//hacksw/handcal//NONSGML v1.0//EN
BEGIN:VEVENT
SUMMARY:permanence mai 2026
UID:477e90b3-e28f-47f6-8199-fb0eae22cdc6
DTSTART:20260520T163000Z
DTEND:20260520T220000Z
LOCATION:Localisation   
CATEGORIES:Festif
STATUS:
DESCRIPTION:<p>il est possible selon les evenements que vienne se
 greffer apres, une reunion du Conseil d'administration</p>
URL;VALUE=URI:https://www.ac-chemin-long.fr/evenements/2026/05/20/permanence-mai-2026-2439832
END:VEVENT
END:VCALENDAR
